BEGIN:VCALENDAR
VERSION:2.0
PRODID:-//Lebenshilfe Frankfurt (Oder) e. V. - ECPv6.15.17//NONSGML v1.0//EN
CALSCALE:GREGORIAN
METHOD:PUBLISH
X-ORIGINAL-URL:https://www.lebenshilfe-ffo.de
X-WR-CALDESC:Veranstaltungen für Lebenshilfe Frankfurt (Oder) e. V.
REFRESH-INTERVAL;VALUE=DURATION:PT1H
X-Robots-Tag:noindex
X-PUBLISHED-TTL:PT1H
BEGIN:VTIMEZONE
TZID:Europe/Berlin
BEGIN:DAYLIGHT
TZOFFSETFROM:+0100
TZOFFSETTO:+0200
TZNAME:CEST
DTSTART:20250330T010000
END:DAYLIGHT
BEGIN:STANDARD
TZOFFSETFROM:+0200
TZOFFSETTO:+0100
TZNAME:CET
DTSTART:20251026T010000
END:STANDARD
BEGIN:DAYLIGHT
TZOFFSETFROM:+0100
TZOFFSETTO:+0200
TZNAME:CEST
DTSTART:20260329T010000
END:DAYLIGHT
BEGIN:STANDARD
TZOFFSETFROM:+0200
TZOFFSETTO:+0100
TZNAME:CET
DTSTART:20261025T010000
END:STANDARD
BEGIN:DAYLIGHT
TZOFFSETFROM:+0100
TZOFFSETTO:+0200
TZNAME:CEST
DTSTART:20270328T010000
END:DAYLIGHT
BEGIN:STANDARD
TZOFFSETFROM:+0200
TZOFFSETTO:+0100
TZNAME:CET
DTSTART:20271031T010000
END:STANDARD
END:VTIMEZONE
BEGIN:VEVENT
DTSTART;TZID=Europe/Berlin:20260424T160000
DTEND;TZID=Europe/Berlin:20260424T180000
DTSTAMP:20260420T123911
CREATED:20260119T103033Z
LAST-MODIFIED:20260119T103414Z
UID:10016316-1777046400-1777053600@www.lebenshilfe-ffo.de
SUMMARY:Offenes Angebot (Spiele\, gesellschaftliche Aktivitäten\, Freizeit und Unterhaltung)
DESCRIPTION:Wir laden Sie herzlich zum Spieletreff ein! \nEigene Spiele können mitgebracht werden (Tee wird gekocht. Falls gewünscht\, können Sie gerne eigene Getränke und Snacks mitbringen).
URL:https://www.lebenshilfe-ffo.de/veranstaltung/offenes-angebot-spiele-gesellschaftliche-aktivitaeten-freizeit-und-unterhaltung/2026-04-24/
LOCATION:Haus am Anger (Gemeinschaftsraum)\, Lindenstraße 41\, Frankfurt (Oder)\, 15230\, Germany
CATEGORIES:Haus am Anger
ATTACH;FMTTYPE=image/jpeg:https://www.lebenshilfe-ffo.de/cms/wp-content/uploads/2026/01/Aushang-Offeneangebot-freitags-ab-16-Uhr.jpg
END:VEVENT
BEGIN:VEVENT
DTSTART;TZID=Europe/Berlin:20260501T160000
DTEND;TZID=Europe/Berlin:20260501T180000
DTSTAMP:20260420T123911
CREATED:20260119T103033Z
LAST-MODIFIED:20260119T103414Z
UID:10016317-1777651200-1777658400@www.lebenshilfe-ffo.de
SUMMARY:Offenes Angebot (Spiele\, gesellschaftliche Aktivitäten\, Freizeit und Unterhaltung)
DESCRIPTION:Wir laden Sie herzlich zum Spieletreff ein! \nEigene Spiele können mitgebracht werden (Tee wird gekocht. Falls gewünscht\, können Sie gerne eigene Getränke und Snacks mitbringen).
URL:https://www.lebenshilfe-ffo.de/veranstaltung/offenes-angebot-spiele-gesellschaftliche-aktivitaeten-freizeit-und-unterhaltung/2026-05-01/
LOCATION:Haus am Anger (Gemeinschaftsraum)\, Lindenstraße 41\, Frankfurt (Oder)\, 15230\, Germany
CATEGORIES:Haus am Anger
ATTACH;FMTTYPE=image/jpeg:https://www.lebenshilfe-ffo.de/cms/wp-content/uploads/2026/01/Aushang-Offeneangebot-freitags-ab-16-Uhr.jpg
END:VEVENT
BEGIN:VEVENT
DTSTART;TZID=Europe/Berlin:20260508T160000
DTEND;TZID=Europe/Berlin:20260508T180000
DTSTAMP:20260420T123911
CREATED:20260119T103033Z
LAST-MODIFIED:20260119T103414Z
UID:10016318-1778256000-1778263200@www.lebenshilfe-ffo.de
SUMMARY:Offenes Angebot (Spiele\, gesellschaftliche Aktivitäten\, Freizeit und Unterhaltung)
DESCRIPTION:Wir laden Sie herzlich zum Spieletreff ein! \nEigene Spiele können mitgebracht werden (Tee wird gekocht. Falls gewünscht\, können Sie gerne eigene Getränke und Snacks mitbringen).
URL:https://www.lebenshilfe-ffo.de/veranstaltung/offenes-angebot-spiele-gesellschaftliche-aktivitaeten-freizeit-und-unterhaltung/2026-05-08/
LOCATION:Haus am Anger (Gemeinschaftsraum)\, Lindenstraße 41\, Frankfurt (Oder)\, 15230\, Germany
CATEGORIES:Haus am Anger
ATTACH;FMTTYPE=image/jpeg:https://www.lebenshilfe-ffo.de/cms/wp-content/uploads/2026/01/Aushang-Offeneangebot-freitags-ab-16-Uhr.jpg
END:VEVENT
BEGIN:VEVENT
DTSTART;TZID=Europe/Berlin:20260515T160000
DTEND;TZID=Europe/Berlin:20260515T180000
DTSTAMP:20260420T123911
CREATED:20260119T103033Z
LAST-MODIFIED:20260119T103414Z
UID:10016319-1778860800-1778868000@www.lebenshilfe-ffo.de
SUMMARY:Offenes Angebot (Spiele\, gesellschaftliche Aktivitäten\, Freizeit und Unterhaltung)
DESCRIPTION:Wir laden Sie herzlich zum Spieletreff ein! \nEigene Spiele können mitgebracht werden (Tee wird gekocht. Falls gewünscht\, können Sie gerne eigene Getränke und Snacks mitbringen).
URL:https://www.lebenshilfe-ffo.de/veranstaltung/offenes-angebot-spiele-gesellschaftliche-aktivitaeten-freizeit-und-unterhaltung/2026-05-15/
LOCATION:Haus am Anger (Gemeinschaftsraum)\, Lindenstraße 41\, Frankfurt (Oder)\, 15230\, Germany
CATEGORIES:Haus am Anger
ATTACH;FMTTYPE=image/jpeg:https://www.lebenshilfe-ffo.de/cms/wp-content/uploads/2026/01/Aushang-Offeneangebot-freitags-ab-16-Uhr.jpg
END:VEVENT
BEGIN:VEVENT
DTSTART;TZID=Europe/Berlin:20260522T160000
DTEND;TZID=Europe/Berlin:20260522T180000
DTSTAMP:20260420T123911
CREATED:20260119T103033Z
LAST-MODIFIED:20260119T103414Z
UID:10016320-1779465600-1779472800@www.lebenshilfe-ffo.de
SUMMARY:Offenes Angebot (Spiele\, gesellschaftliche Aktivitäten\, Freizeit und Unterhaltung)
DESCRIPTION:Wir laden Sie herzlich zum Spieletreff ein! \nEigene Spiele können mitgebracht werden (Tee wird gekocht. Falls gewünscht\, können Sie gerne eigene Getränke und Snacks mitbringen).
URL:https://www.lebenshilfe-ffo.de/veranstaltung/offenes-angebot-spiele-gesellschaftliche-aktivitaeten-freizeit-und-unterhaltung/2026-05-22/
LOCATION:Haus am Anger (Gemeinschaftsraum)\, Lindenstraße 41\, Frankfurt (Oder)\, 15230\, Germany
CATEGORIES:Haus am Anger
ATTACH;FMTTYPE=image/jpeg:https://www.lebenshilfe-ffo.de/cms/wp-content/uploads/2026/01/Aushang-Offeneangebot-freitags-ab-16-Uhr.jpg
END:VEVENT
BEGIN:VEVENT
DTSTART;TZID=Europe/Berlin:20260529T160000
DTEND;TZID=Europe/Berlin:20260529T180000
DTSTAMP:20260420T123911
CREATED:20260119T103033Z
LAST-MODIFIED:20260119T103414Z
UID:10016321-1780070400-1780077600@www.lebenshilfe-ffo.de
SUMMARY:Offenes Angebot (Spiele\, gesellschaftliche Aktivitäten\, Freizeit und Unterhaltung)
DESCRIPTION:Wir laden Sie herzlich zum Spieletreff ein! \nEigene Spiele können mitgebracht werden (Tee wird gekocht. Falls gewünscht\, können Sie gerne eigene Getränke und Snacks mitbringen).
URL:https://www.lebenshilfe-ffo.de/veranstaltung/offenes-angebot-spiele-gesellschaftliche-aktivitaeten-freizeit-und-unterhaltung/2026-05-29/
LOCATION:Haus am Anger (Gemeinschaftsraum)\, Lindenstraße 41\, Frankfurt (Oder)\, 15230\, Germany
CATEGORIES:Haus am Anger
ATTACH;FMTTYPE=image/jpeg:https://www.lebenshilfe-ffo.de/cms/wp-content/uploads/2026/01/Aushang-Offeneangebot-freitags-ab-16-Uhr.jpg
END:VEVENT
BEGIN:VEVENT
DTSTART;TZID=Europe/Berlin:20260605T160000
DTEND;TZID=Europe/Berlin:20260605T180000
DTSTAMP:20260420T123911
CREATED:20260119T103033Z
LAST-MODIFIED:20260119T103414Z
UID:10016322-1780675200-1780682400@www.lebenshilfe-ffo.de
SUMMARY:Offenes Angebot (Spiele\, gesellschaftliche Aktivitäten\, Freizeit und Unterhaltung)
DESCRIPTION:Wir laden Sie herzlich zum Spieletreff ein! \nEigene Spiele können mitgebracht werden (Tee wird gekocht. Falls gewünscht\, können Sie gerne eigene Getränke und Snacks mitbringen).
URL:https://www.lebenshilfe-ffo.de/veranstaltung/offenes-angebot-spiele-gesellschaftliche-aktivitaeten-freizeit-und-unterhaltung/2026-06-05/
LOCATION:Haus am Anger (Gemeinschaftsraum)\, Lindenstraße 41\, Frankfurt (Oder)\, 15230\, Germany
CATEGORIES:Haus am Anger
ATTACH;FMTTYPE=image/jpeg:https://www.lebenshilfe-ffo.de/cms/wp-content/uploads/2026/01/Aushang-Offeneangebot-freitags-ab-16-Uhr.jpg
END:VEVENT
BEGIN:VEVENT
DTSTART;TZID=Europe/Berlin:20260612T160000
DTEND;TZID=Europe/Berlin:20260612T180000
DTSTAMP:20260420T123911
CREATED:20260119T103033Z
LAST-MODIFIED:20260119T103414Z
UID:10016323-1781280000-1781287200@www.lebenshilfe-ffo.de
SUMMARY:Offenes Angebot (Spiele\, gesellschaftliche Aktivitäten\, Freizeit und Unterhaltung)
DESCRIPTION:Wir laden Sie herzlich zum Spieletreff ein! \nEigene Spiele können mitgebracht werden (Tee wird gekocht. Falls gewünscht\, können Sie gerne eigene Getränke und Snacks mitbringen).
URL:https://www.lebenshilfe-ffo.de/veranstaltung/offenes-angebot-spiele-gesellschaftliche-aktivitaeten-freizeit-und-unterhaltung/2026-06-12/
LOCATION:Haus am Anger (Gemeinschaftsraum)\, Lindenstraße 41\, Frankfurt (Oder)\, 15230\, Germany
CATEGORIES:Haus am Anger
ATTACH;FMTTYPE=image/jpeg:https://www.lebenshilfe-ffo.de/cms/wp-content/uploads/2026/01/Aushang-Offeneangebot-freitags-ab-16-Uhr.jpg
END:VEVENT
BEGIN:VEVENT
DTSTART;TZID=Europe/Berlin:20260619T160000
DTEND;TZID=Europe/Berlin:20260619T180000
DTSTAMP:20260420T123911
CREATED:20260119T103033Z
LAST-MODIFIED:20260119T103414Z
UID:10016324-1781884800-1781892000@www.lebenshilfe-ffo.de
SUMMARY:Offenes Angebot (Spiele\, gesellschaftliche Aktivitäten\, Freizeit und Unterhaltung)
DESCRIPTION:Wir laden Sie herzlich zum Spieletreff ein! \nEigene Spiele können mitgebracht werden (Tee wird gekocht. Falls gewünscht\, können Sie gerne eigene Getränke und Snacks mitbringen).
URL:https://www.lebenshilfe-ffo.de/veranstaltung/offenes-angebot-spiele-gesellschaftliche-aktivitaeten-freizeit-und-unterhaltung/2026-06-19/
LOCATION:Haus am Anger (Gemeinschaftsraum)\, Lindenstraße 41\, Frankfurt (Oder)\, 15230\, Germany
CATEGORIES:Haus am Anger
ATTACH;FMTTYPE=image/jpeg:https://www.lebenshilfe-ffo.de/cms/wp-content/uploads/2026/01/Aushang-Offeneangebot-freitags-ab-16-Uhr.jpg
END:VEVENT
BEGIN:VEVENT
DTSTART;TZID=Europe/Berlin:20260626T160000
DTEND;TZID=Europe/Berlin:20260626T180000
DTSTAMP:20260420T123911
CREATED:20260119T103033Z
LAST-MODIFIED:20260119T103414Z
UID:10016325-1782489600-1782496800@www.lebenshilfe-ffo.de
SUMMARY:Offenes Angebot (Spiele\, gesellschaftliche Aktivitäten\, Freizeit und Unterhaltung)
DESCRIPTION:Wir laden Sie herzlich zum Spieletreff ein! \nEigene Spiele können mitgebracht werden (Tee wird gekocht. Falls gewünscht\, können Sie gerne eigene Getränke und Snacks mitbringen).
URL:https://www.lebenshilfe-ffo.de/veranstaltung/offenes-angebot-spiele-gesellschaftliche-aktivitaeten-freizeit-und-unterhaltung/2026-06-26/
LOCATION:Haus am Anger (Gemeinschaftsraum)\, Lindenstraße 41\, Frankfurt (Oder)\, 15230\, Germany
CATEGORIES:Haus am Anger
ATTACH;FMTTYPE=image/jpeg:https://www.lebenshilfe-ffo.de/cms/wp-content/uploads/2026/01/Aushang-Offeneangebot-freitags-ab-16-Uhr.jpg
END:VEVENT
BEGIN:VEVENT
DTSTART;TZID=Europe/Berlin:20260703T160000
DTEND;TZID=Europe/Berlin:20260703T180000
DTSTAMP:20260420T123911
CREATED:20260119T103033Z
LAST-MODIFIED:20260119T103414Z
UID:10016326-1783094400-1783101600@www.lebenshilfe-ffo.de
SUMMARY:Offenes Angebot (Spiele\, gesellschaftliche Aktivitäten\, Freizeit und Unterhaltung)
DESCRIPTION:Wir laden Sie herzlich zum Spieletreff ein! \nEigene Spiele können mitgebracht werden (Tee wird gekocht. Falls gewünscht\, können Sie gerne eigene Getränke und Snacks mitbringen).
URL:https://www.lebenshilfe-ffo.de/veranstaltung/offenes-angebot-spiele-gesellschaftliche-aktivitaeten-freizeit-und-unterhaltung/2026-07-03/
LOCATION:Haus am Anger (Gemeinschaftsraum)\, Lindenstraße 41\, Frankfurt (Oder)\, 15230\, Germany
CATEGORIES:Haus am Anger
ATTACH;FMTTYPE=image/jpeg:https://www.lebenshilfe-ffo.de/cms/wp-content/uploads/2026/01/Aushang-Offeneangebot-freitags-ab-16-Uhr.jpg
END:VEVENT
BEGIN:VEVENT
DTSTART;TZID=Europe/Berlin:20260710T160000
DTEND;TZID=Europe/Berlin:20260710T180000
DTSTAMP:20260420T123911
CREATED:20260119T103033Z
LAST-MODIFIED:20260119T103414Z
UID:10016327-1783699200-1783706400@www.lebenshilfe-ffo.de
SUMMARY:Offenes Angebot (Spiele\, gesellschaftliche Aktivitäten\, Freizeit und Unterhaltung)
DESCRIPTION:Wir laden Sie herzlich zum Spieletreff ein! \nEigene Spiele können mitgebracht werden (Tee wird gekocht. Falls gewünscht\, können Sie gerne eigene Getränke und Snacks mitbringen).
URL:https://www.lebenshilfe-ffo.de/veranstaltung/offenes-angebot-spiele-gesellschaftliche-aktivitaeten-freizeit-und-unterhaltung/2026-07-10/
LOCATION:Haus am Anger (Gemeinschaftsraum)\, Lindenstraße 41\, Frankfurt (Oder)\, 15230\, Germany
CATEGORIES:Haus am Anger
ATTACH;FMTTYPE=image/jpeg:https://www.lebenshilfe-ffo.de/cms/wp-content/uploads/2026/01/Aushang-Offeneangebot-freitags-ab-16-Uhr.jpg
END:VEVENT
BEGIN:VEVENT
DTSTART;TZID=Europe/Berlin:20260717T160000
DTEND;TZID=Europe/Berlin:20260717T180000
DTSTAMP:20260420T123911
CREATED:20260119T103033Z
LAST-MODIFIED:20260119T103414Z
UID:10016328-1784304000-1784311200@www.lebenshilfe-ffo.de
SUMMARY:Offenes Angebot (Spiele\, gesellschaftliche Aktivitäten\, Freizeit und Unterhaltung)
DESCRIPTION:Wir laden Sie herzlich zum Spieletreff ein! \nEigene Spiele können mitgebracht werden (Tee wird gekocht. Falls gewünscht\, können Sie gerne eigene Getränke und Snacks mitbringen).
URL:https://www.lebenshilfe-ffo.de/veranstaltung/offenes-angebot-spiele-gesellschaftliche-aktivitaeten-freizeit-und-unterhaltung/2026-07-17/
LOCATION:Haus am Anger (Gemeinschaftsraum)\, Lindenstraße 41\, Frankfurt (Oder)\, 15230\, Germany
CATEGORIES:Haus am Anger
ATTACH;FMTTYPE=image/jpeg:https://www.lebenshilfe-ffo.de/cms/wp-content/uploads/2026/01/Aushang-Offeneangebot-freitags-ab-16-Uhr.jpg
END:VEVENT
BEGIN:VEVENT
DTSTART;TZID=Europe/Berlin:20260724T160000
DTEND;TZID=Europe/Berlin:20260724T180000
DTSTAMP:20260420T123911
CREATED:20260119T103033Z
LAST-MODIFIED:20260119T103414Z
UID:10016329-1784908800-1784916000@www.lebenshilfe-ffo.de
SUMMARY:Offenes Angebot (Spiele\, gesellschaftliche Aktivitäten\, Freizeit und Unterhaltung)
DESCRIPTION:Wir laden Sie herzlich zum Spieletreff ein! \nEigene Spiele können mitgebracht werden (Tee wird gekocht. Falls gewünscht\, können Sie gerne eigene Getränke und Snacks mitbringen).
URL:https://www.lebenshilfe-ffo.de/veranstaltung/offenes-angebot-spiele-gesellschaftliche-aktivitaeten-freizeit-und-unterhaltung/2026-07-24/
LOCATION:Haus am Anger (Gemeinschaftsraum)\, Lindenstraße 41\, Frankfurt (Oder)\, 15230\, Germany
CATEGORIES:Haus am Anger
ATTACH;FMTTYPE=image/jpeg:https://www.lebenshilfe-ffo.de/cms/wp-content/uploads/2026/01/Aushang-Offeneangebot-freitags-ab-16-Uhr.jpg
END:VEVENT
BEGIN:VEVENT
DTSTART;TZID=Europe/Berlin:20260731T160000
DTEND;TZID=Europe/Berlin:20260731T180000
DTSTAMP:20260420T123911
CREATED:20260119T103033Z
LAST-MODIFIED:20260119T103414Z
UID:10016330-1785513600-1785520800@www.lebenshilfe-ffo.de
SUMMARY:Offenes Angebot (Spiele\, gesellschaftliche Aktivitäten\, Freizeit und Unterhaltung)
DESCRIPTION:Wir laden Sie herzlich zum Spieletreff ein! \nEigene Spiele können mitgebracht werden (Tee wird gekocht. Falls gewünscht\, können Sie gerne eigene Getränke und Snacks mitbringen).
URL:https://www.lebenshilfe-ffo.de/veranstaltung/offenes-angebot-spiele-gesellschaftliche-aktivitaeten-freizeit-und-unterhaltung/2026-07-31/
LOCATION:Haus am Anger (Gemeinschaftsraum)\, Lindenstraße 41\, Frankfurt (Oder)\, 15230\, Germany
CATEGORIES:Haus am Anger
ATTACH;FMTTYPE=image/jpeg:https://www.lebenshilfe-ffo.de/cms/wp-content/uploads/2026/01/Aushang-Offeneangebot-freitags-ab-16-Uhr.jpg
END:VEVENT
BEGIN:VEVENT
DTSTART;TZID=Europe/Berlin:20260807T160000
DTEND;TZID=Europe/Berlin:20260807T180000
DTSTAMP:20260420T123911
CREATED:20260119T103033Z
LAST-MODIFIED:20260119T103414Z
UID:10016331-1786118400-1786125600@www.lebenshilfe-ffo.de
SUMMARY:Offenes Angebot (Spiele\, gesellschaftliche Aktivitäten\, Freizeit und Unterhaltung)
DESCRIPTION:Wir laden Sie herzlich zum Spieletreff ein! \nEigene Spiele können mitgebracht werden (Tee wird gekocht. Falls gewünscht\, können Sie gerne eigene Getränke und Snacks mitbringen).
URL:https://www.lebenshilfe-ffo.de/veranstaltung/offenes-angebot-spiele-gesellschaftliche-aktivitaeten-freizeit-und-unterhaltung/2026-08-07/
LOCATION:Haus am Anger (Gemeinschaftsraum)\, Lindenstraße 41\, Frankfurt (Oder)\, 15230\, Germany
CATEGORIES:Haus am Anger
ATTACH;FMTTYPE=image/jpeg:https://www.lebenshilfe-ffo.de/cms/wp-content/uploads/2026/01/Aushang-Offeneangebot-freitags-ab-16-Uhr.jpg
END:VEVENT
BEGIN:VEVENT
DTSTART;TZID=Europe/Berlin:20260814T160000
DTEND;TZID=Europe/Berlin:20260814T180000
DTSTAMP:20260420T123911
CREATED:20260119T103033Z
LAST-MODIFIED:20260119T103414Z
UID:10016332-1786723200-1786730400@www.lebenshilfe-ffo.de
SUMMARY:Offenes Angebot (Spiele\, gesellschaftliche Aktivitäten\, Freizeit und Unterhaltung)
DESCRIPTION:Wir laden Sie herzlich zum Spieletreff ein! \nEigene Spiele können mitgebracht werden (Tee wird gekocht. Falls gewünscht\, können Sie gerne eigene Getränke und Snacks mitbringen).
URL:https://www.lebenshilfe-ffo.de/veranstaltung/offenes-angebot-spiele-gesellschaftliche-aktivitaeten-freizeit-und-unterhaltung/2026-08-14/
LOCATION:Haus am Anger (Gemeinschaftsraum)\, Lindenstraße 41\, Frankfurt (Oder)\, 15230\, Germany
CATEGORIES:Haus am Anger
ATTACH;FMTTYPE=image/jpeg:https://www.lebenshilfe-ffo.de/cms/wp-content/uploads/2026/01/Aushang-Offeneangebot-freitags-ab-16-Uhr.jpg
END:VEVENT
BEGIN:VEVENT
DTSTART;TZID=Europe/Berlin:20260821T160000
DTEND;TZID=Europe/Berlin:20260821T180000
DTSTAMP:20260420T123911
CREATED:20260119T103033Z
LAST-MODIFIED:20260119T103414Z
UID:10016333-1787328000-1787335200@www.lebenshilfe-ffo.de
SUMMARY:Offenes Angebot (Spiele\, gesellschaftliche Aktivitäten\, Freizeit und Unterhaltung)
DESCRIPTION:Wir laden Sie herzlich zum Spieletreff ein! \nEigene Spiele können mitgebracht werden (Tee wird gekocht. Falls gewünscht\, können Sie gerne eigene Getränke und Snacks mitbringen).
URL:https://www.lebenshilfe-ffo.de/veranstaltung/offenes-angebot-spiele-gesellschaftliche-aktivitaeten-freizeit-und-unterhaltung/2026-08-21/
LOCATION:Haus am Anger (Gemeinschaftsraum)\, Lindenstraße 41\, Frankfurt (Oder)\, 15230\, Germany
CATEGORIES:Haus am Anger
ATTACH;FMTTYPE=image/jpeg:https://www.lebenshilfe-ffo.de/cms/wp-content/uploads/2026/01/Aushang-Offeneangebot-freitags-ab-16-Uhr.jpg
END:VEVENT
BEGIN:VEVENT
DTSTART;TZID=Europe/Berlin:20260828T160000
DTEND;TZID=Europe/Berlin:20260828T180000
DTSTAMP:20260420T123911
CREATED:20260119T103033Z
LAST-MODIFIED:20260119T103414Z
UID:10016334-1787932800-1787940000@www.lebenshilfe-ffo.de
SUMMARY:Offenes Angebot (Spiele\, gesellschaftliche Aktivitäten\, Freizeit und Unterhaltung)
DESCRIPTION:Wir laden Sie herzlich zum Spieletreff ein! \nEigene Spiele können mitgebracht werden (Tee wird gekocht. Falls gewünscht\, können Sie gerne eigene Getränke und Snacks mitbringen).
URL:https://www.lebenshilfe-ffo.de/veranstaltung/offenes-angebot-spiele-gesellschaftliche-aktivitaeten-freizeit-und-unterhaltung/2026-08-28/
LOCATION:Haus am Anger (Gemeinschaftsraum)\, Lindenstraße 41\, Frankfurt (Oder)\, 15230\, Germany
CATEGORIES:Haus am Anger
ATTACH;FMTTYPE=image/jpeg:https://www.lebenshilfe-ffo.de/cms/wp-content/uploads/2026/01/Aushang-Offeneangebot-freitags-ab-16-Uhr.jpg
END:VEVENT
BEGIN:VEVENT
DTSTART;TZID=Europe/Berlin:20260904T160000
DTEND;TZID=Europe/Berlin:20260904T180000
DTSTAMP:20260420T123911
CREATED:20260119T103033Z
LAST-MODIFIED:20260119T103414Z
UID:10016335-1788537600-1788544800@www.lebenshilfe-ffo.de
SUMMARY:Offenes Angebot (Spiele\, gesellschaftliche Aktivitäten\, Freizeit und Unterhaltung)
DESCRIPTION:Wir laden Sie herzlich zum Spieletreff ein! \nEigene Spiele können mitgebracht werden (Tee wird gekocht. Falls gewünscht\, können Sie gerne eigene Getränke und Snacks mitbringen).
URL:https://www.lebenshilfe-ffo.de/veranstaltung/offenes-angebot-spiele-gesellschaftliche-aktivitaeten-freizeit-und-unterhaltung/2026-09-04/
LOCATION:Haus am Anger (Gemeinschaftsraum)\, Lindenstraße 41\, Frankfurt (Oder)\, 15230\, Germany
CATEGORIES:Haus am Anger
ATTACH;FMTTYPE=image/jpeg:https://www.lebenshilfe-ffo.de/cms/wp-content/uploads/2026/01/Aushang-Offeneangebot-freitags-ab-16-Uhr.jpg
END:VEVENT
BEGIN:VEVENT
DTSTART;TZID=Europe/Berlin:20260911T160000
DTEND;TZID=Europe/Berlin:20260911T180000
DTSTAMP:20260420T123911
CREATED:20260119T103033Z
LAST-MODIFIED:20260119T103414Z
UID:10016336-1789142400-1789149600@www.lebenshilfe-ffo.de
SUMMARY:Offenes Angebot (Spiele\, gesellschaftliche Aktivitäten\, Freizeit und Unterhaltung)
DESCRIPTION:Wir laden Sie herzlich zum Spieletreff ein! \nEigene Spiele können mitgebracht werden (Tee wird gekocht. Falls gewünscht\, können Sie gerne eigene Getränke und Snacks mitbringen).
URL:https://www.lebenshilfe-ffo.de/veranstaltung/offenes-angebot-spiele-gesellschaftliche-aktivitaeten-freizeit-und-unterhaltung/2026-09-11/
LOCATION:Haus am Anger (Gemeinschaftsraum)\, Lindenstraße 41\, Frankfurt (Oder)\, 15230\, Germany
CATEGORIES:Haus am Anger
ATTACH;FMTTYPE=image/jpeg:https://www.lebenshilfe-ffo.de/cms/wp-content/uploads/2026/01/Aushang-Offeneangebot-freitags-ab-16-Uhr.jpg
END:VEVENT
BEGIN:VEVENT
DTSTART;TZID=Europe/Berlin:20260918T160000
DTEND;TZID=Europe/Berlin:20260918T180000
DTSTAMP:20260420T123911
CREATED:20260119T103033Z
LAST-MODIFIED:20260119T103414Z
UID:10016337-1789747200-1789754400@www.lebenshilfe-ffo.de
SUMMARY:Offenes Angebot (Spiele\, gesellschaftliche Aktivitäten\, Freizeit und Unterhaltung)
DESCRIPTION:Wir laden Sie herzlich zum Spieletreff ein! \nEigene Spiele können mitgebracht werden (Tee wird gekocht. Falls gewünscht\, können Sie gerne eigene Getränke und Snacks mitbringen).
URL:https://www.lebenshilfe-ffo.de/veranstaltung/offenes-angebot-spiele-gesellschaftliche-aktivitaeten-freizeit-und-unterhaltung/2026-09-18/
LOCATION:Haus am Anger (Gemeinschaftsraum)\, Lindenstraße 41\, Frankfurt (Oder)\, 15230\, Germany
CATEGORIES:Haus am Anger
ATTACH;FMTTYPE=image/jpeg:https://www.lebenshilfe-ffo.de/cms/wp-content/uploads/2026/01/Aushang-Offeneangebot-freitags-ab-16-Uhr.jpg
END:VEVENT
BEGIN:VEVENT
DTSTART;TZID=Europe/Berlin:20260925T160000
DTEND;TZID=Europe/Berlin:20260925T180000
DTSTAMP:20260420T123911
CREATED:20260119T103033Z
LAST-MODIFIED:20260119T103414Z
UID:10016338-1790352000-1790359200@www.lebenshilfe-ffo.de
SUMMARY:Offenes Angebot (Spiele\, gesellschaftliche Aktivitäten\, Freizeit und Unterhaltung)
DESCRIPTION:Wir laden Sie herzlich zum Spieletreff ein! \nEigene Spiele können mitgebracht werden (Tee wird gekocht. Falls gewünscht\, können Sie gerne eigene Getränke und Snacks mitbringen).
URL:https://www.lebenshilfe-ffo.de/veranstaltung/offenes-angebot-spiele-gesellschaftliche-aktivitaeten-freizeit-und-unterhaltung/2026-09-25/
LOCATION:Haus am Anger (Gemeinschaftsraum)\, Lindenstraße 41\, Frankfurt (Oder)\, 15230\, Germany
CATEGORIES:Haus am Anger
ATTACH;FMTTYPE=image/jpeg:https://www.lebenshilfe-ffo.de/cms/wp-content/uploads/2026/01/Aushang-Offeneangebot-freitags-ab-16-Uhr.jpg
END:VEVENT
BEGIN:VEVENT
DTSTART;TZID=Europe/Berlin:20261002T160000
DTEND;TZID=Europe/Berlin:20261002T180000
DTSTAMP:20260420T123911
CREATED:20260119T103033Z
LAST-MODIFIED:20260119T103414Z
UID:10016339-1790956800-1790964000@www.lebenshilfe-ffo.de
SUMMARY:Offenes Angebot (Spiele\, gesellschaftliche Aktivitäten\, Freizeit und Unterhaltung)
DESCRIPTION:Wir laden Sie herzlich zum Spieletreff ein! \nEigene Spiele können mitgebracht werden (Tee wird gekocht. Falls gewünscht\, können Sie gerne eigene Getränke und Snacks mitbringen).
URL:https://www.lebenshilfe-ffo.de/veranstaltung/offenes-angebot-spiele-gesellschaftliche-aktivitaeten-freizeit-und-unterhaltung/2026-10-02/
LOCATION:Haus am Anger (Gemeinschaftsraum)\, Lindenstraße 41\, Frankfurt (Oder)\, 15230\, Germany
CATEGORIES:Haus am Anger
ATTACH;FMTTYPE=image/jpeg:https://www.lebenshilfe-ffo.de/cms/wp-content/uploads/2026/01/Aushang-Offeneangebot-freitags-ab-16-Uhr.jpg
END:VEVENT
BEGIN:VEVENT
DTSTART;TZID=Europe/Berlin:20261009T160000
DTEND;TZID=Europe/Berlin:20261009T180000
DTSTAMP:20260420T123911
CREATED:20260119T103033Z
LAST-MODIFIED:20260119T103414Z
UID:10016340-1791561600-1791568800@www.lebenshilfe-ffo.de
SUMMARY:Offenes Angebot (Spiele\, gesellschaftliche Aktivitäten\, Freizeit und Unterhaltung)
DESCRIPTION:Wir laden Sie herzlich zum Spieletreff ein! \nEigene Spiele können mitgebracht werden (Tee wird gekocht. Falls gewünscht\, können Sie gerne eigene Getränke und Snacks mitbringen).
URL:https://www.lebenshilfe-ffo.de/veranstaltung/offenes-angebot-spiele-gesellschaftliche-aktivitaeten-freizeit-und-unterhaltung/2026-10-09/
LOCATION:Haus am Anger (Gemeinschaftsraum)\, Lindenstraße 41\, Frankfurt (Oder)\, 15230\, Germany
CATEGORIES:Haus am Anger
ATTACH;FMTTYPE=image/jpeg:https://www.lebenshilfe-ffo.de/cms/wp-content/uploads/2026/01/Aushang-Offeneangebot-freitags-ab-16-Uhr.jpg
END:VEVENT
BEGIN:VEVENT
DTSTART;TZID=Europe/Berlin:20261016T160000
DTEND;TZID=Europe/Berlin:20261016T180000
DTSTAMP:20260420T123911
CREATED:20260119T103033Z
LAST-MODIFIED:20260119T103414Z
UID:10016341-1792166400-1792173600@www.lebenshilfe-ffo.de
SUMMARY:Offenes Angebot (Spiele\, gesellschaftliche Aktivitäten\, Freizeit und Unterhaltung)
DESCRIPTION:Wir laden Sie herzlich zum Spieletreff ein! \nEigene Spiele können mitgebracht werden (Tee wird gekocht. Falls gewünscht\, können Sie gerne eigene Getränke und Snacks mitbringen).
URL:https://www.lebenshilfe-ffo.de/veranstaltung/offenes-angebot-spiele-gesellschaftliche-aktivitaeten-freizeit-und-unterhaltung/2026-10-16/
LOCATION:Haus am Anger (Gemeinschaftsraum)\, Lindenstraße 41\, Frankfurt (Oder)\, 15230\, Germany
CATEGORIES:Haus am Anger
ATTACH;FMTTYPE=image/jpeg:https://www.lebenshilfe-ffo.de/cms/wp-content/uploads/2026/01/Aushang-Offeneangebot-freitags-ab-16-Uhr.jpg
END:VEVENT
BEGIN:VEVENT
DTSTART;TZID=Europe/Berlin:20261023T160000
DTEND;TZID=Europe/Berlin:20261023T180000
DTSTAMP:20260420T123911
CREATED:20260119T103033Z
LAST-MODIFIED:20260119T103414Z
UID:10016342-1792771200-1792778400@www.lebenshilfe-ffo.de
SUMMARY:Offenes Angebot (Spiele\, gesellschaftliche Aktivitäten\, Freizeit und Unterhaltung)
DESCRIPTION:Wir laden Sie herzlich zum Spieletreff ein! \nEigene Spiele können mitgebracht werden (Tee wird gekocht. Falls gewünscht\, können Sie gerne eigene Getränke und Snacks mitbringen).
URL:https://www.lebenshilfe-ffo.de/veranstaltung/offenes-angebot-spiele-gesellschaftliche-aktivitaeten-freizeit-und-unterhaltung/2026-10-23/
LOCATION:Haus am Anger (Gemeinschaftsraum)\, Lindenstraße 41\, Frankfurt (Oder)\, 15230\, Germany
CATEGORIES:Haus am Anger
ATTACH;FMTTYPE=image/jpeg:https://www.lebenshilfe-ffo.de/cms/wp-content/uploads/2026/01/Aushang-Offeneangebot-freitags-ab-16-Uhr.jpg
END:VEVENT
BEGIN:VEVENT
DTSTART;TZID=Europe/Berlin:20261030T160000
DTEND;TZID=Europe/Berlin:20261030T180000
DTSTAMP:20260420T123911
CREATED:20260119T103033Z
LAST-MODIFIED:20260119T103414Z
UID:10016343-1793376000-1793383200@www.lebenshilfe-ffo.de
SUMMARY:Offenes Angebot (Spiele\, gesellschaftliche Aktivitäten\, Freizeit und Unterhaltung)
DESCRIPTION:Wir laden Sie herzlich zum Spieletreff ein! \nEigene Spiele können mitgebracht werden (Tee wird gekocht. Falls gewünscht\, können Sie gerne eigene Getränke und Snacks mitbringen).
URL:https://www.lebenshilfe-ffo.de/veranstaltung/offenes-angebot-spiele-gesellschaftliche-aktivitaeten-freizeit-und-unterhaltung/2026-10-30/
LOCATION:Haus am Anger (Gemeinschaftsraum)\, Lindenstraße 41\, Frankfurt (Oder)\, 15230\, Germany
CATEGORIES:Haus am Anger
ATTACH;FMTTYPE=image/jpeg:https://www.lebenshilfe-ffo.de/cms/wp-content/uploads/2026/01/Aushang-Offeneangebot-freitags-ab-16-Uhr.jpg
END:VEVENT
BEGIN:VEVENT
DTSTART;TZID=Europe/Berlin:20261106T160000
DTEND;TZID=Europe/Berlin:20261106T180000
DTSTAMP:20260420T123911
CREATED:20260119T103033Z
LAST-MODIFIED:20260119T103414Z
UID:10016344-1793980800-1793988000@www.lebenshilfe-ffo.de
SUMMARY:Offenes Angebot (Spiele\, gesellschaftliche Aktivitäten\, Freizeit und Unterhaltung)
DESCRIPTION:Wir laden Sie herzlich zum Spieletreff ein! \nEigene Spiele können mitgebracht werden (Tee wird gekocht. Falls gewünscht\, können Sie gerne eigene Getränke und Snacks mitbringen).
URL:https://www.lebenshilfe-ffo.de/veranstaltung/offenes-angebot-spiele-gesellschaftliche-aktivitaeten-freizeit-und-unterhaltung/2026-11-06/
LOCATION:Haus am Anger (Gemeinschaftsraum)\, Lindenstraße 41\, Frankfurt (Oder)\, 15230\, Germany
CATEGORIES:Haus am Anger
ATTACH;FMTTYPE=image/jpeg:https://www.lebenshilfe-ffo.de/cms/wp-content/uploads/2026/01/Aushang-Offeneangebot-freitags-ab-16-Uhr.jpg
END:VEVENT
BEGIN:VEVENT
DTSTART;TZID=Europe/Berlin:20261113T160000
DTEND;TZID=Europe/Berlin:20261113T180000
DTSTAMP:20260420T123911
CREATED:20260119T103033Z
LAST-MODIFIED:20260119T103414Z
UID:10016345-1794585600-1794592800@www.lebenshilfe-ffo.de
SUMMARY:Offenes Angebot (Spiele\, gesellschaftliche Aktivitäten\, Freizeit und Unterhaltung)
DESCRIPTION:Wir laden Sie herzlich zum Spieletreff ein! \nEigene Spiele können mitgebracht werden (Tee wird gekocht. Falls gewünscht\, können Sie gerne eigene Getränke und Snacks mitbringen).
URL:https://www.lebenshilfe-ffo.de/veranstaltung/offenes-angebot-spiele-gesellschaftliche-aktivitaeten-freizeit-und-unterhaltung/2026-11-13/
LOCATION:Haus am Anger (Gemeinschaftsraum)\, Lindenstraße 41\, Frankfurt (Oder)\, 15230\, Germany
CATEGORIES:Haus am Anger
ATTACH;FMTTYPE=image/jpeg:https://www.lebenshilfe-ffo.de/cms/wp-content/uploads/2026/01/Aushang-Offeneangebot-freitags-ab-16-Uhr.jpg
END:VEVENT
END:VCALENDAR