BEGIN:VCALENDAR
VERSION:2.0
PRODID:-//Lebenshilfe Frankfurt (Oder) e. V. - ECPv6.15.17//NONSGML v1.0//EN
CALSCALE:GREGORIAN
METHOD:PUBLISH
X-WR-CALNAME:Lebenshilfe Frankfurt (Oder) e. V.
X-ORIGINAL-URL:https://www.lebenshilfe-ffo.de
X-WR-CALDESC:Veranstaltungen für Lebenshilfe Frankfurt (Oder) e. V.
REFRESH-INTERVAL;VALUE=DURATION:PT1H
X-Robots-Tag:noindex
X-PUBLISHED-TTL:PT1H
BEGIN:VTIMEZONE
TZID:Europe/Berlin
BEGIN:DAYLIGHT
TZOFFSETFROM:+0100
TZOFFSETTO:+0200
TZNAME:CEST
DTSTART:20250330T010000
END:DAYLIGHT
BEGIN:STANDARD
TZOFFSETFROM:+0200
TZOFFSETTO:+0100
TZNAME:CET
DTSTART:20251026T010000
END:STANDARD
BEGIN:DAYLIGHT
TZOFFSETFROM:+0100
TZOFFSETTO:+0200
TZNAME:CEST
DTSTART:20260329T010000
END:DAYLIGHT
BEGIN:STANDARD
TZOFFSETFROM:+0200
TZOFFSETTO:+0100
TZNAME:CET
DTSTART:20261025T010000
END:STANDARD
BEGIN:DAYLIGHT
TZOFFSETFROM:+0100
TZOFFSETTO:+0200
TZNAME:CEST
DTSTART:20270328T010000
END:DAYLIGHT
BEGIN:STANDARD
TZOFFSETFROM:+0200
TZOFFSETTO:+0100
TZNAME:CET
DTSTART:20271031T010000
END:STANDARD
END:VTIMEZONE
BEGIN:VEVENT
DTSTART;TZID=Europe/Berlin:20260326T160000
DTEND;TZID=Europe/Berlin:20260326T180000
DTSTAMP:20260421T142810
CREATED:20260224T094657Z
LAST-MODIFIED:20260302T083157Z
UID:50369-1774540800-1774548000@www.lebenshilfe-ffo.de
SUMMARY:Verlorene Orte einst und heute
DESCRIPTION:Eine herzliche Einladung in die historische Welt unserer Heimatstadt. \nHerr Knappe berichtet in seinem Vortrag über bedeutende historische Plätze und verbindet Fakten mit persönlichen Anekdoten. \nFreuen Sie sich auf einen interessanten und informativen Nachmittag.
URL:https://www.lebenshilfe-ffo.de/veranstaltung/verlorene-orte-einst-und-heute/
LOCATION:Haus der Begegnung\, Platz der Begegnung 4\, Frankfurt (Oder)\, 15232\, Germany
CATEGORIES:Allgemein,Haus der Begegnung
ATTACH;FMTTYPE=image/jpeg:https://www.lebenshilfe-ffo.de/cms/wp-content/uploads/2026/02/Verlorenen-Orte-einst-und-heute-1.jpg
END:VEVENT
END:VCALENDAR