BEGIN:VCALENDAR
VERSION:2.0
PRODID:-//Lebenshilfe Frankfurt (Oder) e. V. - ECPv6.15.17//NONSGML v1.0//EN
CALSCALE:GREGORIAN
METHOD:PUBLISH
X-WR-CALNAME:Lebenshilfe Frankfurt (Oder) e. V.
X-ORIGINAL-URL:https://www.lebenshilfe-ffo.de
X-WR-CALDESC:Veranstaltungen für Lebenshilfe Frankfurt (Oder) e. V.
REFRESH-INTERVAL;VALUE=DURATION:PT1H
X-Robots-Tag:noindex
X-PUBLISHED-TTL:PT1H
BEGIN:VTIMEZONE
TZID:Europe/Berlin
BEGIN:DAYLIGHT
TZOFFSETFROM:+0100
TZOFFSETTO:+0200
TZNAME:CEST
DTSTART:20260329T010000
END:DAYLIGHT
BEGIN:STANDARD
TZOFFSETFROM:+0200
TZOFFSETTO:+0100
TZNAME:CET
DTSTART:20261025T010000
END:STANDARD
BEGIN:DAYLIGHT
TZOFFSETFROM:+0100
TZOFFSETTO:+0200
TZNAME:CEST
DTSTART:20270328T010000
END:DAYLIGHT
BEGIN:STANDARD
TZOFFSETFROM:+0200
TZOFFSETTO:+0100
TZNAME:CET
DTSTART:20271031T010000
END:STANDARD
BEGIN:DAYLIGHT
TZOFFSETFROM:+0100
TZOFFSETTO:+0200
TZNAME:CEST
DTSTART:20280326T010000
END:DAYLIGHT
BEGIN:STANDARD
TZOFFSETFROM:+0200
TZOFFSETTO:+0100
TZNAME:CET
DTSTART:20281029T010000
END:STANDARD
END:VTIMEZONE
BEGIN:VEVENT
DTSTART;TZID=Europe/Berlin:20270628T150000
DTEND;TZID=Europe/Berlin:20270628T170000
DTSTAMP:20260424T140031
CREATED:20260423T105913Z
LAST-MODIFIED:20260423T105913Z
UID:10020846-1814194800-1814202000@www.lebenshilfe-ffo.de
SUMMARY:Seniorentreff
DESCRIPTION:Jeden Montag\, 15–17 Uhr \nEinfach zusammenkommen\, plaudern und den Nachmittag genießen.\nZeit für Gespräche\, Begegnungen und ein gemütliches Miteinander. Offen für alle Senioren in entspannter Atmosphäre. \nKostenlose Teilnahme: Tel. 0335 280510‑67
URL:https://www.lebenshilfe-ffo.de/veranstaltung/seniorentreff/2027-06-28/
LOCATION:Hüttentreff\, Franz-Mehring-Straße 4\, Frankfurt (Oder)\, 15230\, Germany
CATEGORIES:Hüttentreff
ATTACH;FMTTYPE=image/jpeg:https://www.lebenshilfe-ffo.de/cms/wp-content/uploads/2026/04/Seniorentreff.jpg
END:VEVENT
END:VCALENDAR