BEGIN:VCALENDAR
VERSION:2.0
PRODID:-//Lebenshilfe Frankfurt (Oder) e. V. - ECPv6.15.17//NONSGML v1.0//EN
CALSCALE:GREGORIAN
METHOD:PUBLISH
X-WR-CALNAME:Lebenshilfe Frankfurt (Oder) e. V.
X-ORIGINAL-URL:https://www.lebenshilfe-ffo.de
X-WR-CALDESC:Veranstaltungen für Lebenshilfe Frankfurt (Oder) e. V.
REFRESH-INTERVAL;VALUE=DURATION:PT1H
X-Robots-Tag:noindex
X-PUBLISHED-TTL:PT1H
BEGIN:VTIMEZONE
TZID:Europe/Berlin
BEGIN:DAYLIGHT
TZOFFSETFROM:+0100
TZOFFSETTO:+0200
TZNAME:CEST
DTSTART:20250330T010000
END:DAYLIGHT
BEGIN:STANDARD
TZOFFSETFROM:+0200
TZOFFSETTO:+0100
TZNAME:CET
DTSTART:20251026T010000
END:STANDARD
BEGIN:DAYLIGHT
TZOFFSETFROM:+0100
TZOFFSETTO:+0200
TZNAME:CEST
DTSTART:20260329T010000
END:DAYLIGHT
BEGIN:STANDARD
TZOFFSETFROM:+0200
TZOFFSETTO:+0100
TZNAME:CET
DTSTART:20261025T010000
END:STANDARD
BEGIN:DAYLIGHT
TZOFFSETFROM:+0100
TZOFFSETTO:+0200
TZNAME:CEST
DTSTART:20270328T010000
END:DAYLIGHT
BEGIN:STANDARD
TZOFFSETFROM:+0200
TZOFFSETTO:+0100
TZNAME:CET
DTSTART:20271031T010000
END:STANDARD
END:VTIMEZONE
BEGIN:VEVENT
DTSTART;TZID=Europe/Berlin:20260411T100000
DTEND;TZID=Europe/Berlin:20260411T130000
DTSTAMP:20260421T103547
CREATED:20260216T121249Z
LAST-MODIFIED:20260223T112021Z
UID:50130-1775901600-1775912400@www.lebenshilfe-ffo.de
SUMMARY:Inklusives Frühlingskonzert der Lebenshilfe Frankfurt (Oder)
DESCRIPTION:Die Lebenshilfe Frankfurt (Oder) lädt am Samstag\, den 11. April 2026\, herzlich zum 32. inklusiven Frühlingskonzert ein. Musikbegeisterte und Familien können sich ab 10:00 Uhr im Kleist Forum auf ein vielfältiges Programm freuen. \nDer Eintritt ist frei\, Spenden sind willkommen. \nUnter dem Motto „Musik ist die Sprache\, die jeder versteht“ präsentieren Musiker mit und ohne Beeinträchtigungen ein buntes\, fröhliches und abwechslungsreiches Konzertprogramm. \nProgramm und Mitwirkende \nAuf der Bühne stehen unter anderem: \n\nBand „Raouls Freunde“\nLebenshilfe Hausband Seelow\nMusikschule Słubice „SPOŁECZNA NIEPUBLICZNA OGÓLNOKSZTAŁCĄCA SZKOŁA MUZYCZNA I STOPNIA“\nMusiklehrer Sven Loichen\n– gemeinsam mit Richard Brettfeld & Christoph Knopp\nBand „Kling Klang Club“\nKinder der Integrationskitas der Lebenshilfe:\n– Kita Finkenhäuschen\n– Kinderhaus am Südring\n\nRahmenprogramm \nNeben dem Musikprogramm können sich die Besucher auf weitere Angebote freuen: \n\neine Bastelstation für Kinder\nein Keramikstand mit handgefertigten Produkten\nein Kuchen- und Getränkestand (angeboten durch das Kleist Forum)\n\nDie Lebenshilfe Frankfurt (Oder) möchte mit diesem Event zeigen\, dass jeder Mensch\, unabhängig von seinen Einschränkungen\, das Potenzial hat\, seine Talente und Leidenschaften zu entfalten. \nSpendenzweck: die Lebenshilfe Frankfurt (Oder) bittet\, um Spenden für die Anschaffung einer Musikbox für die Besondere Wohnform „Ekkehard Berhold“. Musik wird somit in den Alltag der Adressaten integriert.
URL:https://www.lebenshilfe-ffo.de/veranstaltung/inklusives-fruehlingskonzert-der-lebenshilfe-frankfurt-oder/
LOCATION:Kleist Forum\, Platz der Einheit 1\, Frankfurt (Oder)\, 15230
CATEGORIES:Allgemein
ATTACH;FMTTYPE=image/jpeg:https://www.lebenshilfe-ffo.de/cms/wp-content/uploads/2025/04/31.-Fruehlingskonzert.05.04.2025_Lebenshilfe-Frankfurt-Oder-50.jpg
END:VEVENT
END:VCALENDAR